Package: MEIGOR Version: 1.45.0 Command: /home/biocbuild/bbs-3.23-bioc/R/bin/R CMD INSTALL MEIGOR StartedAt: 2025-10-31 15:51:19 -0400 (Fri, 31 Oct 2025) EndedAt: 2025-10-31 15:51:29 -0400 (Fri, 31 Oct 2025) EllapsedTime: 10.1 seconds RetCode: 0 Status: OK