Package: MEIGOR Version: 1.45.0 Command: /home/biocbuild/bbs-3.23-bioc/R/bin/R CMD build --keep-empty-dirs --no-resave-data MEIGOR StartedAt: 2025-10-31 18:39:19 -0400 (Fri, 31 Oct 2025) EndedAt: 2025-10-31 18:40:06 -0400 (Fri, 31 Oct 2025) EllapsedTime: 47.1 seconds RetCode: 0 Status: OK PackageFile: MEIGOR_1.45.0.tar.gz PackageFileSize: 1.575 MiB