Package: MEIGOR Version: 1.45.0 Command: /Library/Frameworks/R.framework/Resources/bin/R CMD INSTALL MEIGOR StartedAt: 2025-11-20 15:38:49 -0500 (Thu, 20 Nov 2025) EndedAt: 2025-11-20 15:39:04 -0500 (Thu, 20 Nov 2025) EllapsedTime: 15.0 seconds RetCode: 0 Status: OK