Package: MEIGOR Version: 1.45.0 Command: /Library/Frameworks/R.framework/Resources/bin/R CMD build --keep-empty-dirs --no-resave-data MEIGOR StartedAt: 2025-11-20 17:37:00 -0500 (Thu, 20 Nov 2025) EndedAt: 2025-11-20 17:37:59 -0500 (Thu, 20 Nov 2025) EllapsedTime: 59.4 seconds RetCode: 0 Status: OK PackageFile: MEIGOR_1.45.0.tar.gz PackageFileSize: 1.776 MiB