Package: MEIGOR Version: 1.45.0 Command: rm -rf MEIGOR.buildbin-libdir && mkdir MEIGOR.buildbin-libdir && /Users/biocbuild/BBS/utils/build-universal.sh MEIGOR_1.45.0.tar.gz /Library/Frameworks/R.framework/Resources/bin/R MEIGOR.buildbin-libdir StartedAt: 2025-11-21 01:41:46 -0500 (Fri, 21 Nov 2025) EndedAt: 2025-11-21 01:42:06 -0500 (Fri, 21 Nov 2025) EllapsedTime: 19.6 seconds RetCode: 0 Status: OK PackageFile: MEIGOR_1.45.0.tgz PackageFileSize: 1.902 MiB