Package: MEIGOR Version: 1.43.0 Command: /Library/Frameworks/R.framework/Resources/bin/R CMD INSTALL MEIGOR StartedAt: 2025-10-22 15:10:46 -0400 (Wed, 22 Oct 2025) EndedAt: 2025-10-22 15:10:50 -0400 (Wed, 22 Oct 2025) EllapsedTime: 4.2 seconds RetCode: 0 Status: OK