Package: MEIGOR Version: 1.43.0 Command: /Library/Frameworks/R.framework/Resources/bin/R CMD build --keep-empty-dirs --no-resave-data MEIGOR StartedAt: 2025-10-22 16:56:51 -0400 (Wed, 22 Oct 2025) EndedAt: 2025-10-22 16:57:15 -0400 (Wed, 22 Oct 2025) EllapsedTime: 24.3 seconds RetCode: 0 Status: OK PackageFile: MEIGOR_1.43.0.tar.gz PackageFileSize: 1.767 MiB