Package: MEDME Version: 1.71.0 Command: /home/biocbuild/bbs-3.23-bioc/R/bin/R CMD build --keep-empty-dirs --no-resave-data MEDME StartedAt: 2025-11-23 18:30:50 -0500 (Sun, 23 Nov 2025) EndedAt: 2025-11-23 18:31:26 -0500 (Sun, 23 Nov 2025) EllapsedTime: 36.0 seconds RetCode: 0 Status: OK PackageFile: MEDME_1.71.0.tar.gz PackageFileSize: 448.3 KiB