Package: MEDIPS Version: 1.63.0 Command: /Library/Frameworks/R.framework/Resources/bin/R CMD INSTALL MEDIPS StartedAt: 2025-11-21 15:34:47 -0500 (Fri, 21 Nov 2025) EndedAt: 2025-11-21 15:35:40 -0500 (Fri, 21 Nov 2025) EllapsedTime: 53.2 seconds RetCode: 0 Status: OK