Package: MEDIPS Version: 1.63.0 Command: /Library/Frameworks/R.framework/Resources/bin/R CMD build --keep-empty-dirs --no-resave-data MEDIPS StartedAt: 2025-11-21 17:36:16 -0500 (Fri, 21 Nov 2025) EndedAt: 2025-11-21 17:38:17 -0500 (Fri, 21 Nov 2025) EllapsedTime: 121.0 seconds RetCode: 0 Status: OK PackageFile: MEDIPS_1.63.0.tar.gz PackageFileSize: 321.3 KiB