Package: MEDIPS Version: 1.63.0 Command: rm -rf MEDIPS.buildbin-libdir && mkdir MEDIPS.buildbin-libdir && /Users/biocbuild/BBS/utils/build-universal.sh MEDIPS_1.63.0.tar.gz /Library/Frameworks/R.framework/Resources/bin/R MEDIPS.buildbin-libdir StartedAt: 2025-11-22 01:42:12 -0500 (Sat, 22 Nov 2025) EndedAt: 2025-11-22 01:43:10 -0500 (Sat, 22 Nov 2025) EllapsedTime: 58.9 seconds RetCode: 0 Status: OK PackageFile: MEDIPS_1.63.0.tgz PackageFileSize: 741.9 KiB