Package: MEB Version: 1.25.0 Command: /home/biocbuild/bbs-3.23-bioc/R/bin/R CMD INSTALL MEB StartedAt: 2025-11-20 15:54:48 -0500 (Thu, 20 Nov 2025) EndedAt: 2025-11-20 15:55:16 -0500 (Thu, 20 Nov 2025) EllapsedTime: 28.4 seconds RetCode: 0 Status: OK