Package: MEB Version: 1.25.0 Command: /home/biocbuild/bbs-3.23-bioc/R/bin/R CMD build --keep-empty-dirs --no-resave-data MEB StartedAt: 2025-11-20 18:30:00 -0500 (Thu, 20 Nov 2025) EndedAt: 2025-11-20 18:30:45 -0500 (Thu, 20 Nov 2025) EllapsedTime: 45.1 seconds RetCode: 0 Status: OK PackageFile: MEB_1.25.0.tar.gz PackageFileSize: 1.02 MiB