Package: MEB Version: 1.23.1 Command: rm -rf MEB.buildbin-libdir && mkdir MEB.buildbin-libdir && /Users/biocbuild/BBS/utils/build-universal.sh MEB_1.23.1.tar.gz /Library/Frameworks/R.framework/Resources/bin/R MEB.buildbin-libdir StartedAt: 2025-10-25 01:48:18 -0400 (Sat, 25 Oct 2025) EndedAt: 2025-10-25 01:48:59 -0400 (Sat, 25 Oct 2025) EllapsedTime: 41.4 seconds RetCode: 0 Status: OK PackageFile: MEB_1.23.1.tgz PackageFileSize: 1.444 MiB