Package: MEB Version: 1.23.0 Command: /Library/Frameworks/R.framework/Resources/bin/R CMD INSTALL MEB StartedAt: 2025-10-03 15:29:44 -0400 (Fri, 03 Oct 2025) EndedAt: 2025-10-03 15:29:56 -0400 (Fri, 03 Oct 2025) EllapsedTime: 12.4 seconds RetCode: 0 Status: OK