Package: MEB Version: 1.23.0 Command: /Library/Frameworks/R.framework/Resources/bin/R CMD build --keep-empty-dirs --no-resave-data MEB StartedAt: 2025-10-03 16:54:31 -0400 (Fri, 03 Oct 2025) EndedAt: 2025-10-03 16:54:51 -0400 (Fri, 03 Oct 2025) EllapsedTime: 20.3 seconds RetCode: 0 Status: OK PackageFile: MEB_1.23.0.tar.gz PackageFileSize: 1.179 MiB