Package: MEB Version: 1.23.0 Command: rm -rf MEB.buildbin-libdir && mkdir MEB.buildbin-libdir && /Users/biocbuild/BBS/utils/build-universal.sh MEB_1.23.0.tar.gz /Library/Frameworks/R.framework/Resources/bin/R MEB.buildbin-libdir StartedAt: 2025-10-03 22:44:59 -0400 (Fri, 03 Oct 2025) EndedAt: 2025-10-03 22:45:12 -0400 (Fri, 03 Oct 2025) EllapsedTime: 13.3 seconds RetCode: 0 Status: OK PackageFile: MEB_1.23.0.tgz PackageFileSize: 1.445 MiB