Package: MEAT Version: 1.23.0 Command: /home/biocbuild/bbs-3.23-bioc/R/bin/R CMD INSTALL MEAT StartedAt: 2025-11-20 16:02:10 -0500 (Thu, 20 Nov 2025) EndedAt: 2025-11-20 16:02:57 -0500 (Thu, 20 Nov 2025) EllapsedTime: 47.2 seconds RetCode: 0 Status: OK