Package: MEAT Version: 1.23.0 Command: /home/biocbuild/bbs-3.23-bioc/R/bin/R CMD build --keep-empty-dirs --no-resave-data MEAT StartedAt: 2025-11-20 18:29:57 -0500 (Thu, 20 Nov 2025) EndedAt: 2025-11-20 18:31:27 -0500 (Thu, 20 Nov 2025) EllapsedTime: 90.2 seconds RetCode: 0 Status: OK PackageFile: MEAT_1.23.0.tar.gz PackageFileSize: 4.974 MiB