Package: MEAT Version: 1.21.0 Command: /Library/Frameworks/R.framework/Resources/bin/R CMD INSTALL MEAT StartedAt: 2025-10-22 15:53:45 -0400 (Wed, 22 Oct 2025) EndedAt: 2025-10-22 15:54:24 -0400 (Wed, 22 Oct 2025) EllapsedTime: 39.1 seconds RetCode: 0 Status: OK