Package: MEAT Version: 1.21.0 Command: /Library/Frameworks/R.framework/Resources/bin/R CMD build --keep-empty-dirs --no-resave-data MEAT StartedAt: 2025-10-22 17:34:24 -0400 (Wed, 22 Oct 2025) EndedAt: 2025-10-22 17:36:00 -0400 (Wed, 22 Oct 2025) EllapsedTime: 96.0 seconds RetCode: 0 Status: OK PackageFile: MEAT_1.21.0.tar.gz PackageFileSize: 4.974 MiB