Package: MEAT Version: 1.21.0 Command: rm -rf MEAT.buildbin-libdir && mkdir MEAT.buildbin-libdir && /Users/biocbuild/BBS/utils/build-universal.sh MEAT_1.21.0.tar.gz /Library/Frameworks/R.framework/Resources/bin/R MEAT.buildbin-libdir StartedAt: 2025-10-23 01:40:46 -0400 (Thu, 23 Oct 2025) EndedAt: 2025-10-23 01:42:03 -0400 (Thu, 23 Oct 2025) EllapsedTime: 77.2 seconds RetCode: 0 Status: OK PackageFile: MEAT_1.21.0.tgz PackageFileSize: 5.607 MiB