Package: MEAT Version: 1.21.0 Command: /Library/Frameworks/R.framework/Resources/bin/R CMD INSTALL MEAT StartedAt: 2025-10-05 15:32:50 -0400 (Sun, 05 Oct 2025) EndedAt: 2025-10-05 15:33:08 -0400 (Sun, 05 Oct 2025) EllapsedTime: 18.3 seconds RetCode: 0 Status: OK