Package: MEAL Version: 1.41.0 Command: /home/biocbuild/bbs-3.23-bioc/R/bin/R CMD build --keep-empty-dirs --no-resave-data MEAL StartedAt: 2025-11-05 18:31:29 -0500 (Wed, 05 Nov 2025) EndedAt: 2025-11-05 18:38:15 -0500 (Wed, 05 Nov 2025) EllapsedTime: 406.4 seconds RetCode: 0 Status: OK PackageFile: MEAL_1.41.0.tar.gz PackageFileSize: 2.078 MiB