Package: MEAL Version: 1.39.0 Command: /Library/Frameworks/R.framework/Resources/bin/R CMD INSTALL MEAL StartedAt: 2025-10-09 15:34:48 -0400 (Thu, 09 Oct 2025) EndedAt: 2025-10-09 15:35:02 -0400 (Thu, 09 Oct 2025) EllapsedTime: 14.9 seconds RetCode: 0 Status: OK