Package: MEAL Version: 1.39.0 Command: /Library/Frameworks/R.framework/Resources/bin/R CMD build --keep-empty-dirs --no-resave-data MEAL StartedAt: 2025-10-09 16:53:32 -0400 (Thu, 09 Oct 2025) EndedAt: 2025-10-09 16:56:21 -0400 (Thu, 09 Oct 2025) EllapsedTime: 168.9 seconds RetCode: 0 Status: OK PackageFile: MEAL_1.39.0.tar.gz PackageFileSize: 2.104 MiB