Package: MDTS Version: 1.31.0 Command: /home/biocbuild/bbs-3.23-bioc/R/bin/R CMD INSTALL MDTS StartedAt: 2025-11-20 15:25:33 -0500 (Thu, 20 Nov 2025) EndedAt: 2025-11-20 15:25:58 -0500 (Thu, 20 Nov 2025) EllapsedTime: 25.5 seconds RetCode: 0 Status: OK