Package: MDTS Version: 1.31.0 Command: /home/biocbuild/bbs-3.23-bioc/R/bin/R CMD build --keep-empty-dirs --no-resave-data MDTS StartedAt: 2025-11-20 18:29:49 -0500 (Thu, 20 Nov 2025) EndedAt: 2025-11-20 18:30:27 -0500 (Thu, 20 Nov 2025) EllapsedTime: 38.0 seconds RetCode: 0 Status: OK PackageFile: MDTS_1.31.0.tar.gz PackageFileSize: 31.93 KiB