Package: MDTS Version: 1.31.0 Command: /Library/Frameworks/R.framework/Resources/bin/R CMD INSTALL MDTS StartedAt: 2025-11-20 15:32:49 -0500 (Thu, 20 Nov 2025) EndedAt: 2025-11-20 15:33:23 -0500 (Thu, 20 Nov 2025) EllapsedTime: 33.4 seconds RetCode: 0 Status: OK