Package: MDTS Version: 1.31.0 Command: /Library/Frameworks/R.framework/Resources/bin/R CMD build --keep-empty-dirs --no-resave-data MDTS StartedAt: 2025-11-20 17:36:22 -0500 (Thu, 20 Nov 2025) EndedAt: 2025-11-20 17:37:04 -0500 (Thu, 20 Nov 2025) EllapsedTime: 42.4 seconds RetCode: 0 Status: OK PackageFile: MDTS_1.31.0.tar.gz PackageFileSize: 31.8 KiB