Package: MDTS Version: 1.29.0 Command: /Library/Frameworks/R.framework/Resources/bin/R CMD build --keep-empty-dirs --no-resave-data MDTS StartedAt: 2025-10-24 16:56:43 -0400 (Fri, 24 Oct 2025) EndedAt: 2025-10-24 16:56:59 -0400 (Fri, 24 Oct 2025) EllapsedTime: 16.2 seconds RetCode: 0 Status: OK PackageFile: MDTS_1.29.0.tar.gz PackageFileSize: 31.79 KiB