Package: MDTS Version: 1.29.0 Command: rm -rf MDTS.buildbin-libdir && mkdir MDTS.buildbin-libdir && /Users/biocbuild/BBS/utils/build-universal.sh MDTS_1.29.0.tar.gz /Library/Frameworks/R.framework/Resources/bin/R MDTS.buildbin-libdir StartedAt: 2025-10-24 23:08:43 -0400 (Fri, 24 Oct 2025) EndedAt: 2025-10-24 23:08:55 -0400 (Fri, 24 Oct 2025) EllapsedTime: 11.3 seconds RetCode: 0 Status: OK PackageFile: MDTS_1.29.0.tgz PackageFileSize: 80.62 KiB