Package: MCbiclust Version: 1.33.0 Command: /home/biocbuild/bbs-3.22-bioc/R/bin/R CMD build --keep-empty-dirs --no-resave-data --md5 MCbiclust StartedAt: 2025-10-12 18:27:09 -0400 (Sun, 12 Oct 2025) EndedAt: 2025-10-12 18:28:13 -0400 (Sun, 12 Oct 2025) EllapsedTime: 64.1 seconds RetCode: 0 Status: OK PackageFile: MCbiclust_1.33.0.tar.gz PackageFileSize: 6.197 MiB