Package: MBttest Version: 1.39.0 Command: /home/biocbuild/bbs-3.23-bioc/R/bin/R CMD build --keep-empty-dirs --no-resave-data MBttest StartedAt: 2025-11-03 18:22:04 -0500 (Mon, 03 Nov 2025) EndedAt: 2025-11-03 18:22:22 -0500 (Mon, 03 Nov 2025) EllapsedTime: 18.0 seconds RetCode: 0 Status: OK PackageFile: MBttest_1.39.0.tar.gz PackageFileSize: 3.447 MiB