Package: MBttest Version: 1.37.0 Command: /Library/Frameworks/R.framework/Resources/bin/R CMD build --keep-empty-dirs --no-resave-data MBttest StartedAt: 2025-10-10 17:51:39 -0400 (Fri, 10 Oct 2025) EndedAt: 2025-10-10 17:52:12 -0400 (Fri, 10 Oct 2025) EllapsedTime: 33.1 seconds RetCode: 0 Status: OK PackageFile: MBttest_1.37.0.tar.gz PackageFileSize: 3.446 MiB