Package: MBttest Version: 1.37.0 Maintainer: Yuan-De Tan MaintainerEmail: tanyuande at gmail.com git_url: https://git.bioconductor.org/packages/MBttest git_branch: devel git_last_commit: 0aeedb8 git_last_commit_date: 2025-04-15 11:33:52 -0400 (Tue, 15 Apr 2025)