Package: MBQN Version: 2.21.0 Command: /Library/Frameworks/R.framework/Resources/bin/R CMD INSTALL MBQN StartedAt: 2025-10-22 15:22:44 -0400 (Wed, 22 Oct 2025) EndedAt: 2025-10-22 15:22:48 -0400 (Wed, 22 Oct 2025) EllapsedTime: 4.2 seconds RetCode: 0 Status: OK