Package: MBQN Version: 2.21.0 Command: /Library/Frameworks/R.framework/Resources/bin/R CMD INSTALL MBQN StartedAt: 2025-10-14 15:14:07 -0400 (Tue, 14 Oct 2025) EndedAt: 2025-10-14 15:14:08 -0400 (Tue, 14 Oct 2025) EllapsedTime: 1.4 seconds RetCode: 0 Status: OK