Package: MBQN Version: 2.21.0 Command: rm -rf MBQN.buildbin-libdir && mkdir MBQN.buildbin-libdir && /Users/biocbuild/BBS/utils/build-universal.sh MBQN_2.21.0.tar.gz /Library/Frameworks/R.framework/Resources/bin/R MBQN.buildbin-libdir StartedAt: 2025-10-14 23:27:27 -0400 (Tue, 14 Oct 2025) EndedAt: 2025-10-14 23:27:29 -0400 (Tue, 14 Oct 2025) EllapsedTime: 2.0 seconds RetCode: 0 Status: OK PackageFile: MBQN_2.21.0.tgz PackageFileSize: 284.1 KiB