Package: MBQN Version: 2.23.0 Maintainer: Eva Brombacher MaintainerEmail: brombach at imbi.uni-freiburg.de git_url: https://git.bioconductor.org/packages/MBQN git_branch: devel git_last_commit: 6c11f8c git_last_commit_date: 2025-10-29 10:55:13 -0400 (Wed, 29 Oct 2025)