Package: MBECS Version: 1.13.0 Command: /home/biocbuild/R/R/bin/R CMD INSTALL MBECS StartedAt: 2025-10-13 21:04:07 -0000 (Mon, 13 Oct 2025) EndedAt: 2025-10-13 21:04:34 -0000 (Mon, 13 Oct 2025) EllapsedTime: 27.6 seconds RetCode: 0 Status: OK