Package: MBECS Version: 1.13.0 Command: /home/biocbuild/R/R/bin/R CMD build --keep-empty-dirs --no-resave-data MBECS StartedAt: 2025-10-14 01:29:09 -0000 (Tue, 14 Oct 2025) EndedAt: 2025-10-14 01:30:45 -0000 (Tue, 14 Oct 2025) EllapsedTime: 96.0 seconds RetCode: 0 Status: OK PackageFile: MBECS_1.13.0.tar.gz PackageFileSize: 1.488 MiB