Package: MBECS Version: 1.15.0 Command: /home/biocbuild/bbs-3.23-bioc/R/bin/R CMD INSTALL MBECS StartedAt: 2025-11-07 15:29:31 -0500 (Fri, 07 Nov 2025) EndedAt: 2025-11-07 15:29:53 -0500 (Fri, 07 Nov 2025) EllapsedTime: 21.7 seconds RetCode: 0 Status: OK