Package: MBECS Version: 1.15.0 Command: /home/biocbuild/bbs-3.23-bioc/R/bin/R CMD check --install=check:MBECS.install-out.txt --library=/home/biocbuild/bbs-3.23-bioc/R/site-library --timings MBECS_1.15.0.tar.gz StartedAt: 2025-11-08 01:02:28 -0500 (Sat, 08 Nov 2025) EndedAt: 2025-11-08 01:07:39 -0500 (Sat, 08 Nov 2025) EllapsedTime: 310.3 seconds RetCode: 0 Status: OK CheckDir: MBECS.Rcheck Warnings: 0