Package: MBCB Version: 1.65.0 Command: /home/biocbuild/bbs-3.23-bioc/R/bin/R CMD build --keep-empty-dirs --no-resave-data MBCB StartedAt: 2025-11-20 18:28:30 -0500 (Thu, 20 Nov 2025) EndedAt: 2025-11-20 18:28:37 -0500 (Thu, 20 Nov 2025) EllapsedTime: 7.0 seconds RetCode: 0 Status: OK PackageFile: MBCB_1.65.0.tar.gz PackageFileSize: 410.2 KiB