Package: MBCB Version: 1.63.0 Command: /Library/Frameworks/R.framework/Resources/bin/R CMD INSTALL MBCB StartedAt: 2025-10-12 15:14:41 -0400 (Sun, 12 Oct 2025) EndedAt: 2025-10-12 15:14:53 -0400 (Sun, 12 Oct 2025) EllapsedTime: 12.0 seconds RetCode: 0 Status: OK