Package: MBCB Version: 1.63.0 Command: /Library/Frameworks/R.framework/Resources/bin/R CMD build --keep-empty-dirs --no-resave-data MBCB StartedAt: 2025-10-12 17:48:03 -0400 (Sun, 12 Oct 2025) EndedAt: 2025-10-12 17:48:22 -0400 (Sun, 12 Oct 2025) EllapsedTime: 19.5 seconds RetCode: 0 Status: OK PackageFile: MBCB_1.63.0.tar.gz PackageFileSize: 409.2 KiB