Package: MBAmethyl Version: 1.45.0 Command: /home/biocbuild/bbs-3.23-bioc/R/bin/R CMD INSTALL MBAmethyl StartedAt: 2025-11-20 15:01:29 -0500 (Thu, 20 Nov 2025) EndedAt: 2025-11-20 15:01:36 -0500 (Thu, 20 Nov 2025) EllapsedTime: 7.4 seconds RetCode: 0 Status: OK