Package: MBAmethyl Version: 1.45.0 Command: /home/biocbuild/bbs-3.23-bioc/R/bin/R CMD build --keep-empty-dirs --no-resave-data MBAmethyl StartedAt: 2025-11-20 18:28:03 -0500 (Thu, 20 Nov 2025) EndedAt: 2025-11-20 18:28:14 -0500 (Thu, 20 Nov 2025) EllapsedTime: 11.0 seconds RetCode: 0 Status: OK PackageFile: MBAmethyl_1.45.0.tar.gz PackageFileSize: 88.09 KiB