Package: MBAmethyl Version: 1.43.0 Command: rm -rf MBAmethyl.buildbin-libdir && mkdir MBAmethyl.buildbin-libdir && /Users/biocbuild/BBS/utils/build-universal.sh MBAmethyl_1.43.0.tar.gz /Library/Frameworks/R.framework/Resources/bin/R MBAmethyl.buildbin-libdir StartedAt: 2025-10-18 03:05:54 -0400 (Sat, 18 Oct 2025) EndedAt: 2025-10-18 03:06:02 -0400 (Sat, 18 Oct 2025) EllapsedTime: 8.0 seconds RetCode: 0 Status: OK PackageFile: MBAmethyl_1.43.0.tgz PackageFileSize: 110.8 KiB